BEGIN:VCALENDAR
VERSION:2.0
PRODID:-//Around - ECPv6.15.17//NONSGML v1.0//EN
CALSCALE:GREGORIAN
METHOD:PUBLISH
X-WR-CALNAME:Around
X-ORIGINAL-URL:https://around-rosenheim.de
X-WR-CALDESC:Veranstaltungen für Around
REFRESH-INTERVAL;VALUE=DURATION:PT1H
X-Robots-Tag:noindex
X-PUBLISHED-TTL:PT1H
BEGIN:VTIMEZONE
TZID:Europe/Berlin
BEGIN:DAYLIGHT
TZOFFSETFROM:+0100
TZOFFSETTO:+0200
TZNAME:CEST
DTSTART:20250330T010000
END:DAYLIGHT
BEGIN:STANDARD
TZOFFSETFROM:+0200
TZOFFSETTO:+0100
TZNAME:CET
DTSTART:20251026T010000
END:STANDARD
BEGIN:DAYLIGHT
TZOFFSETFROM:+0100
TZOFFSETTO:+0200
TZNAME:CEST
DTSTART:20260329T010000
END:DAYLIGHT
BEGIN:STANDARD
TZOFFSETFROM:+0200
TZOFFSETTO:+0100
TZNAME:CET
DTSTART:20261025T010000
END:STANDARD
BEGIN:DAYLIGHT
TZOFFSETFROM:+0100
TZOFFSETTO:+0200
TZNAME:CEST
DTSTART:20270328T010000
END:DAYLIGHT
BEGIN:STANDARD
TZOFFSETFROM:+0200
TZOFFSETTO:+0100
TZNAME:CET
DTSTART:20271031T010000
END:STANDARD
END:VTIMEZONE
BEGIN:VEVENT
DTSTART;TZID=Europe/Berlin:20260401T180000
DTEND;TZID=Europe/Berlin:20260401T220000
DTSTAMP:20260419T165356
CREATED:20260218T092655Z
LAST-MODIFIED:20260218T092655Z
UID:10000879-1775066400-1775080800@around-rosenheim.de
SUMMARY:Queer Treff
DESCRIPTION:Der queere Treff für Jugendliche und junge Erwachsene bis zum Alter von 27 Jahren. Du willst in einem geschützten Rahmen Gleichgesinnte treffen\, herausfinden wer du bist oder einfach mehr über das Thema erfahren? Dann schau einfach mal vorbei.
URL:https://around-rosenheim.de/event/queer-treff-4/
LOCATION:JiL\, Rathausstraße 26\, Rosenheim\, 83022
CATEGORIES:Jugendarbeit
ORGANIZER;CN="LGBTQ Rosenheim":MAILTO:vorstand@lgbtq-rosenheim.de
END:VEVENT
END:VCALENDAR